BEGIN:VCALENDAR
VERSION:2.0
PRODID:-//CERN//INDICO//EN
BEGIN:VEVENT
SUMMARY:ggg
DTSTART:20260416T060000Z
DTEND:20260416T080000Z
DTSTAMP:20260422T085600Z
UID:indico-event-1@swe326.online
DESCRIPTION:Speakers: Mohammad Amro (KFUPM)\n\nhttps://swe326.online/event
 /1/
URL:https://swe326.online/event/1/
END:VEVENT
END:VCALENDAR
